BEGIN:VCALENDAR
VERSION:2.0
PRODID:SchoolNow
CALSCALE:GREGORIAN
BEGIN:VEVENT
UID:6fe97308-9d46-11f0-92dd-0affe3b30109
DTSTAMP:20260323T235637Z
SUMMARY:CDD Board Meeting - May 2026
LOCATION:Amenities Center located at 10820 Mistflower Lane\, Tampa\, Florid
 a 33647
URL;VALUE=URI:https://www.kbarranchiicdd.org/calendar/8676443/cdd-board-mee
 ting-jun-2026
DTSTART:20260520T220000Z
DTEND:20260520T230000Z
END:VEVENT
END:VCALENDAR
