BEGIN:VCALENDAR
VERSION:2.0
PRODID:SchoolNow
CALSCALE:GREGORIAN
BEGIN:VEVENT
UID:7bef5582-9d46-11f0-9aae-0a58a9feac02
DTSTAMP:20260323T235545Z
SUMMARY:CDD Board Meeting - June  2026
LOCATION:Amenities Center located at 10820 Mistflower Lane\, Tampa\, Florid
 a 33647
URL;VALUE=URI:https://www.kbarranchiicdd.org/calendar/8676444/cdd-board-mee
 ting-jul-2026
DTSTART:20260617T220000Z
DTEND:20260617T230000Z
END:VEVENT
END:VCALENDAR
